BEGIN:VCALENDAR
VERSION:2.0
PRODID:-//InvisionCommunity Events 4.7.16//EN
METHOD:PUBLISH
CALSCALE:GREGORIAN
REFRESH-INTERVAL:PT15M
X-PUBLISHED-TTL:PT15M
X-WR-CALNAME:Pré-saison
NAME:Pré-saison
BEGIN:VTIMEZONE
TZID:Europe/London
TZURL:http://tzurl.org/zoneinfo/Europe/London
X-LIC-LOCATION:Europe/London
BEGIN:DAYLIGHT
TZOFFSETFROM:+0000
TZOFFSETTO:+0100
TZNAME:BST
DTSTART:20180325T020000Z
RRULE:FREQ=YEARLY;BYMONTH=3;BYDAY=-1SU
END:DAYLIGHT
BEGIN:STANDARD
TZOFFSETFROM:+0100
TZOFFSETTO:+0000
TZNAME:GMT
DTSTART:20181028T020000Z
RRULE:FREQ=YEARLY;BYMONTH=10;BYDAY=-1SU
END:STANDARD
END:VTIMEZONE
BEGIN:VEVENT
SUMMARY:Tirage au sort des groupes Europa League
DTSTAMP:20180830T170606Z
SEQUENCE:0
UID:11-1-9cdf1fb079d4f45e6ced20194fc4b1fe@forum.gunners.fr
ORGANIZER;CN="SkyMan":com.gunnersfrance@gmail.com
DESCRIPTION:\n\n	Les explications : https://fr.uefa.com/uefaeuropaleague
	/news/newsid=2568307.html?iv=true\n\n\n\n	 \n\n\n\n	Le live : https://fr.
	uefa.com/uefaeuropaleague/season=2019/draws/round=2000990/\n\n
DTSTART:20180831T110000Z
DTEND:20180831T120000Z
END:VEVENT
END:VCALENDAR
